BEGIN:VCALENDAR
VERSION:2.0
PRODID:-//Carterville Chamber - ECPv6.15.17.1//NONSGML v1.0//EN
CALSCALE:GREGORIAN
METHOD:PUBLISH
X-WR-CALNAME:Carterville Chamber
X-ORIGINAL-URL:https://cartervillechamber.com
X-WR-CALDESC:Events for Carterville Chamber
REFRESH-INTERVAL;VALUE=DURATION:PT1H
X-Robots-Tag:noindex
X-PUBLISHED-TTL:PT1H
BEGIN:VTIMEZONE
TZID:America/Chicago
BEGIN:DAYLIGHT
TZOFFSETFROM:-0600
TZOFFSETTO:-0500
TZNAME:CDT
DTSTART:20240310T080000
END:DAYLIGHT
BEGIN:STANDARD
TZOFFSETFROM:-0500
TZOFFSETTO:-0600
TZNAME:CST
DTSTART:20241103T070000
END:STANDARD
BEGIN:DAYLIGHT
TZOFFSETFROM:-0600
TZOFFSETTO:-0500
TZNAME:CDT
DTSTART:20250309T080000
END:DAYLIGHT
BEGIN:STANDARD
TZOFFSETFROM:-0500
TZOFFSETTO:-0600
TZNAME:CST
DTSTART:20251102T070000
END:STANDARD
BEGIN:DAYLIGHT
TZOFFSETFROM:-0600
TZOFFSETTO:-0500
TZNAME:CDT
DTSTART:20260308T080000
END:DAYLIGHT
BEGIN:STANDARD
TZOFFSETFROM:-0500
TZOFFSETTO:-0600
TZNAME:CST
DTSTART:20261101T070000
END:STANDARD
END:VTIMEZONE
BEGIN:VEVENT
DTSTART;VALUE=DATE:20251111
DTEND;VALUE=DATE:20251112
DTSTAMP:20260419T080724
CREATED:20251027T175336Z
LAST-MODIFIED:20251027T175336Z
UID:2740-1762819200-1762905599@cartervillechamber.com
SUMMARY:VETERANS DAY
DESCRIPTION:
URL:https://cartervillechamber.com/event/veterans-day/
END:VEVENT
BEGIN:VEVENT
DTSTART;TZID=America/Chicago:20251111T190000
DTEND;TZID=America/Chicago:20251111T200000
DTSTAMP:20260419T080724
CREATED:20251027T175453Z
LAST-MODIFIED:20251027T175453Z
UID:2743-1762887600-1762891200@cartervillechamber.com
SUMMARY:City Council Meeting
DESCRIPTION:
URL:https://cartervillechamber.com/event/city-council-meeting-2/
LOCATION:Carterville Community Center\, 120 N Greenbriar Rd\, Carterville\, IL\, 62918\, United States
END:VEVENT
END:VCALENDAR