BEGIN:VCALENDAR
VERSION:2.0
PRODID:-//Carterville Chamber - ECPv6.15.17.1//NONSGML v1.0//EN
CALSCALE:GREGORIAN
METHOD:PUBLISH
X-WR-CALNAME:Carterville Chamber
X-ORIGINAL-URL:https://cartervillechamber.com
X-WR-CALDESC:Events for Carterville Chamber
REFRESH-INTERVAL;VALUE=DURATION:PT1H
X-Robots-Tag:noindex
X-PUBLISHED-TTL:PT1H
BEGIN:VTIMEZONE
TZID:America/Chicago
BEGIN:DAYLIGHT
TZOFFSETFROM:-0600
TZOFFSETTO:-0500
TZNAME:CDT
DTSTART:20240310T080000
END:DAYLIGHT
BEGIN:STANDARD
TZOFFSETFROM:-0500
TZOFFSETTO:-0600
TZNAME:CST
DTSTART:20241103T070000
END:STANDARD
BEGIN:DAYLIGHT
TZOFFSETFROM:-0600
TZOFFSETTO:-0500
TZNAME:CDT
DTSTART:20250309T080000
END:DAYLIGHT
BEGIN:STANDARD
TZOFFSETFROM:-0500
TZOFFSETTO:-0600
TZNAME:CST
DTSTART:20251102T070000
END:STANDARD
BEGIN:DAYLIGHT
TZOFFSETFROM:-0600
TZOFFSETTO:-0500
TZNAME:CDT
DTSTART:20260308T080000
END:DAYLIGHT
BEGIN:STANDARD
TZOFFSETFROM:-0500
TZOFFSETTO:-0600
TZNAME:CST
DTSTART:20261101T070000
END:STANDARD
END:VTIMEZONE
BEGIN:VEVENT
DTSTART;TZID=America/Chicago:20250604T120000
DTEND;TZID=America/Chicago:20250604T140000
DTSTAMP:20260419T144843
CREATED:20250618T201610Z
LAST-MODIFIED:20250618T201739Z
UID:1429-1749038400-1749045600@cartervillechamber.com
SUMMARY:General Membership Meeting
DESCRIPTION:Carterville Chamber of Commerce general membership meeting is a monthly recurring meeting.
URL:https://cartervillechamber.com/event/general-membership-meeting/
LOCATION:Carterville Community Center\, 120 N Greenbriar Rd\, Carterville\, IL\, 62918\, United States
END:VEVENT
BEGIN:VEVENT
DTSTART;TZID=America/Chicago:20250605T080000
DTEND;TZID=America/Chicago:20250605T090000
DTSTAMP:20260419T144843
CREATED:20250618T201909Z
LAST-MODIFIED:20250618T201909Z
UID:1432-1749110400-1749114000@cartervillechamber.com
SUMMARY:Social Media/Ambassador Committee Zoom
DESCRIPTION:Carterville Chamber of Commerce Social Media/Ambassador committee zoom meeting is a monthly recurring meeting.
URL:https://cartervillechamber.com/event/social-media-ambassador-committee-zoom/
END:VEVENT
BEGIN:VEVENT
DTSTART;TZID=America/Chicago:20250610T190000
DTEND;TZID=America/Chicago:20250610T210000
DTSTAMP:20260419T144843
CREATED:20250618T202246Z
LAST-MODIFIED:20250618T202246Z
UID:1435-1749582000-1749589200@cartervillechamber.com
SUMMARY:City Council Meeting
DESCRIPTION:Carterville City Council meeting is a recurring meeting.
URL:https://cartervillechamber.com/event/city-council-meeting/
LOCATION:Carterville City Hall\, 103 S. Division St.\, Carterville\, IL\, 62918\, United States
END:VEVENT
BEGIN:VEVENT
DTSTART;TZID=America/Chicago:20250612T080000
DTEND;TZID=America/Chicago:20250612T100000
DTSTAMP:20260419T144843
CREATED:20250618T202542Z
LAST-MODIFIED:20250618T202542Z
UID:1439-1749715200-1749722400@cartervillechamber.com
SUMMARY:Operations Committee Meeting
DESCRIPTION:Operations Committee meeting is a monthly recurring meeting.
URL:https://cartervillechamber.com/event/operations-committee-meeting/
LOCATION:Heather’s Bake Shop\, 137 S Division St\, Carterville\, IL\, 62918\, United States
END:VEVENT
BEGIN:VEVENT
DTSTART;TZID=America/Chicago:20250619T080000
DTEND;TZID=America/Chicago:20250619T100000
DTSTAMP:20260419T144843
CREATED:20250618T202710Z
LAST-MODIFIED:20250618T202710Z
UID:1442-1750320000-1750327200@cartervillechamber.com
SUMMARY:Board of Directors Meeting
DESCRIPTION:Carterville Chamber of Commerce Board of Directors meeting is a monthly recurring meeting.
URL:https://cartervillechamber.com/event/board-of-directors-meeting/
LOCATION:Heather’s Bake Shop\, 137 S Division St\, Carterville\, IL\, 62918\, United States
END:VEVENT
END:VCALENDAR